BEGIN:VCALENDAR
VERSION:2.0
PRODID:-//hacksw/handcal//NONSGML v1.0//EN
BEGIN:VEVENT
SUMMARY:Renfo DOJO Marche fermier 3t, squat 1t, fentes 1t-corde a sauter-abdos-exos sols-russian twists- Tabata squat ball-squat serre lent Tabata mollets, solaire static D G, Mollets gastro TABATA KB swing/main, KB tirage/main TABATA squat sur une jambe D G.
UID:1269a650-8cdc-46e2-af94-4ae58687c226
DTSTART:20260302T174500Z
DTEND:20260302T230000Z
LOCATION:Localisation   
CATEGORIES:Sportif
STATUS:
URL;VALUE=URI:https://www.runinparigne72.fr/evenements/2026/03/02/renfo-dojo-marche-fermier-3t-squat-1t-fentes-1t-corde-a-sauter-abdos-exos-sols-russian-twists-tabata-squat-ball-squat-serre-lent-tabata-mollets-solaire-static-d-g-mollets-gastro-tabata-kb-swingmain-kb-tiragemain-tabata-squat-sur-une-jambe-d-g-2422349
END:VEVENT
END:VCALENDAR
