BEGIN:VCALENDAR
VERSION:2.0
PRODID:-//hacksw/handcal//NONSGML v1.0//EN
BEGIN:VEVENT
SUMMARY:ROUTE - Footing 20min - 4-3-2-1-2-3-4 r moitie du temps de maintien VMA 90% - RAC 5min
UID:a280b51c-fb17-4cef-af55-7be613af40a2
DTSTART:20260302T174500Z
DTEND:20260302T230000Z
LOCATION:Localisation   
CATEGORIES:Sportif
STATUS:
URL;VALUE=URI:https://www.runinparigne72.fr/evenements/2026/03/02/route-footing-20min-4-3-2-1-2-3-4-r-moitie-du-temps-de-maintien-vma-90-rac-5min-2422350
END:VEVENT
END:VCALENDAR
