BEGIN:VCALENDAR
VERSION:2.0
PRODID:-//hacksw/handcal//NONSGML v1.0//EN
BEGIN:VEVENT
SUMMARY:PISTE - Footing 20min - PPG - 7x1000 (800-200) (700-300) (600-400) (500-500) (400-600) (300-700) (200-800) R' 2,30 1ere partie AS 10 2e partie AS 5 - RAC 5min
UID:cb1a1656-b75b-44f7-98c6-4b788fba4e6c
DTSTART:20260306T171500Z
DTEND:20260306T230000Z
LOCATION:Localisation   
CATEGORIES:Administratif
STATUS:
URL;VALUE=URI:https://www.runinparigne72.fr/evenements/2026/03/06/piste-footing-20min-ppg-7x1000-800-200-700-300-600-400-500-500-400-600-300-700-200-800-r-230-1ere-partie-as-10-2e-partie-as-5-rac-5min-2408579
END:VEVENT
END:VCALENDAR
