BEGIN:VCALENDAR
VERSION:2.0
PRODID:-//hacksw/handcal//NONSGML v1.0//EN
BEGIN:VEVENT
SUMMARY:2x(8x300) r’100m R’2’ VMA 100%
UID:f10ef551-f451-4689-a1ce-3d30d5c282cd
DTSTART:20260318T171500Z
DTEND:20260318T230000Z
LOCATION:Localisation   
CATEGORIES:Administratif
STATUS:
URL;VALUE=URI:https://www.runinparigne72.fr/evenements/2026/03/18/2x8x300-r100m-r2-vma-100-2422288
END:VEVENT
END:VCALENDAR
