BEGIN:VCALENDAR
VERSION:2.0
PRODID:-//hacksw/handcal//NONSGML v1.0//EN
BEGIN:VEVENT
SUMMARY:3x (1000-r’300-500-r’100-1000)R’400 VMA 90%
UID:da9f783b-269b-415b-baaf-657c98e029c6
DTSTART:20260320T171500Z
DTEND:20260320T230000Z
LOCATION:Localisation   
CATEGORIES:Administratif
STATUS:
URL;VALUE=URI:https://www.runinparigne72.fr/evenements/2026/03/20/3x-1000-r300-500-r100-1000r400-vma-90-2422289
END:VEVENT
END:VCALENDAR
